BEGIN:VCALENDAR
VERSION:2.0
PRODID:-//Forum BGM Ostschweiz - ECPv6.15.20//NONSGML v1.0//EN
CALSCALE:GREGORIAN
METHOD:PUBLISH
X-WR-CALNAME:Forum BGM Ostschweiz
X-ORIGINAL-URL:https://bgm-ostschweiz.ch
X-WR-CALDESC:Veranstaltungen für Forum BGM Ostschweiz
REFRESH-INTERVAL;VALUE=DURATION:PT1H
X-Robots-Tag:noindex
X-PUBLISHED-TTL:PT1H
BEGIN:VTIMEZONE
TZID:Europe/Zurich
BEGIN:DAYLIGHT
TZOFFSETFROM:+0100
TZOFFSETTO:+0200
TZNAME:CEST
DTSTART:20240331T010000
END:DAYLIGHT
BEGIN:STANDARD
TZOFFSETFROM:+0200
TZOFFSETTO:+0100
TZNAME:CET
DTSTART:20241027T010000
END:STANDARD
BEGIN:DAYLIGHT
TZOFFSETFROM:+0100
TZOFFSETTO:+0200
TZNAME:CEST
DTSTART:20250330T010000
END:DAYLIGHT
BEGIN:STANDARD
TZOFFSETFROM:+0200
TZOFFSETTO:+0100
TZNAME:CET
DTSTART:20251026T010000
END:STANDARD
BEGIN:DAYLIGHT
TZOFFSETFROM:+0100
TZOFFSETTO:+0200
TZNAME:CEST
DTSTART:20260329T010000
END:DAYLIGHT
BEGIN:STANDARD
TZOFFSETFROM:+0200
TZOFFSETTO:+0100
TZNAME:CET
DTSTART:20261025T010000
END:STANDARD
END:VTIMEZONE
BEGIN:VEVENT
DTSTART;TZID=Europe/Zurich:20250820T140000
DTEND;TZID=Europe/Zurich:20250820T181500
DTSTAMP:20260420T104202
CREATED:20250210T102631Z
LAST-MODIFIED:20250304T083040Z
UID:24696-1755698400-1755713700@bgm-ostschweiz.ch
SUMMARY:BGM Forum 2025: «Gesundheitsförderung im KMU»
DESCRIPTION:Phoenix Mecano Solutions AG\, Hofwisenstrasse 6\, 8260 Stein am Rhein
URL:https://bgm-ostschweiz.ch/event/bgm-forum-2025-gesundheitsfoerderung-im-kmu/
LOCATION:Phoenix Mecano Solutions AG\, Hofwisenstrasse 6\, 8260\, Switzerland
CATEGORIES:BGM-Event
ORGANIZER;CN="Forum BGM Ostschweiz":MAILTO:info@bgm-ostschweiz.ch
END:VEVENT
END:VCALENDAR